BEGIN:VCALENDAR
VERSION:2.0
PRODID:-//Plone.org//NONSGML plone.app.event//EN
X-WR-TIMEZONE:Europe/Madrid
BEGIN:VEVENT
SUMMARY:Santa Llúcia 2012. Encesa de l'arbre de Nadal
DTSTART;TZID=Europe/Madrid;VALUE=DATE-TIME:20121213T180000
DTEND;TZID=Europe/Madrid;VALUE=DATE-TIME:20121213T190000
DTSTAMP;VALUE=DATE-TIME:20260422T155851Z
UID:8bce3007eeb31e749291c6ec0c5dd0be
CREATED;VALUE=DATE-TIME:20121213T000000Z
LOCATION:Plaça de la Vila
ORGANIZER:Comissió de Festes de Nadal amb la col·laboració del CEIP Sagrada Família i l´Escola Bressol
URL:https://caldetes.cat/document.php?id=1929
END:VEVENT
END:VCALENDAR