BEGIN:VCALENDAR
VERSION:2.0
PRODID:-//Plone.org//NONSGML plone.app.event//EN
X-WR-TIMEZONE:Europe/Madrid
BEGIN:VEVENT
SUMMARY:Santa Llúcia 2012. Festa de l'esport urbà amb exhibició d'eskate i scooter
DTSTART;TZID=Europe/Madrid;VALUE=DATE-TIME:20121215T100000
DTEND;TZID=Europe/Madrid;VALUE=DATE-TIME:20121215T110000
DTSTAMP;VALUE=DATE-TIME:20260423T074908Z
UID:b1b7c6ce40d00845cf56e95e2a3d850d
CREATED;VALUE=DATE-TIME:20121215T000000Z
LOCATION:Esplanada Can Muntanyà
ORGANIZER:Ajuntament de Caldes d´Estrac
COMMENT:Durada: Fins les 2 h del migdia
URL:https://caldetes.cat/document.php?id=1930
END:VEVENT
END:VCALENDAR