BEGIN:VCALENDAR
VERSION:2.0
PRODID:-//Plone.org//NONSGML plone.app.event//EN
X-WR-TIMEZONE:Europe/Madrid
BEGIN:VEVENT
SUMMARY:Cafè amb l'alcalde
DTSTART;TZID=Europe/Madrid;VALUE=DATE-TIME:20130327T180000
DTEND;TZID=Europe/Madrid;VALUE=DATE-TIME:20130327T190000
DTSTAMP;VALUE=DATE-TIME:20260423T062119Z
UID:9dfcc3b18792ad7d29f779d5e67bc6f1
CREATED;VALUE=DATE-TIME:20130327T000000Z
LOCATION:Ajuntament (Plaça de la Vila)
ORGANIZER:Ajuntament de Caldes d'Estrac
DESCRIPTION:Inscripcions obertes per la trobada del mes de març
URL:https://caldetes.cat/document.php?id=1934
END:VEVENT
END:VCALENDAR