BEGIN:VCALENDAR
VERSION:2.0
PRODID:-//Plone.org//NONSGML plone.app.event//EN
X-WR-TIMEZONE:Europe/Madrid
BEGIN:VEVENT
SUMMARY:FESTIVAL DE PATINATGE
DTSTART;TZID=Europe/Madrid;VALUE=DATE-TIME:20121220T180000
DTEND;TZID=Europe/Madrid;VALUE=DATE-TIME:20121220T190000
DTSTAMP;VALUE=DATE-TIME:20260424T130609Z
UID:b4b07a1e8ed9487c96fbe3c8cf9712a8
CREATED;VALUE=DATE-TIME:20121220T000000Z
CATEGORIES:Esports
LOCATION:Pavelló Poliesportiu Municipal
ORGANIZER:Club de Patinatge Artístic Caldes d'Estrac
COMMENT:Preu: Entrada LLiure
DESCRIPTION:FESTA DE NADAL 2012
URL:https://caldetes.cat/document.php?id=1938
END:VEVENT
END:VCALENDAR