BEGIN:VCALENDAR
VERSION:2.0
PRODID:-//Plone.org//NONSGML plone.app.event//EN
X-WR-TIMEZONE:Europe/Madrid
BEGIN:VEVENT
SUMMARY:Proves de nivell de Patinatge Artístic
DTSTART;TZID=Europe/Madrid;VALUE=DATE-TIME:20130112T090000
DTEND;TZID=Europe/Madrid;VALUE=DATE-TIME:20130112T100000
DTSTAMP;VALUE=DATE-TIME:20260422T164318Z
UID:f82d77e9f06cf181b0304d193b57cb57
CREATED;VALUE=DATE-TIME:20130112T000000Z
CATEGORIES:Esports
LOCATION:Pavelló municipal de Mataró
ORGANIZER:Club de Patinatge Artístic Caldes d'Estrac
URL:https://caldetes.cat/document.php?id=1945
END:VEVENT
END:VCALENDAR