BEGIN:VCALENDAR
VERSION:2.0
PRODID:-//Plone.org//NONSGML plone.app.event//EN
X-WR-TIMEZONE:Europe/Madrid
BEGIN:VEVENT
SUMMARY:Espai de Salut amb Reiki
DTSTART;TZID=Europe/Madrid;VALUE=DATE-TIME:20130123T100000
DTEND;TZID=Europe/Madrid;VALUE=DATE-TIME:20130123T110000
DTSTAMP;VALUE=DATE-TIME:20260422T172401Z
UID:dc0885c1b8051ade9851f9899c2b2ec5
CREATED;VALUE=DATE-TIME:20130123T000000Z
LOCATION:Sala Cultural (i altres llocs a consultar)
ORGANIZER:Àrea de Serveis Socials (Ajuntament de Caldes d'Estrac)
COMMENT:Preu: Activitat gratuïta i oberta a tothom
DESCRIPTION:A càrrec de Voluntaris de l'Associació de Terapeutes Reiki de  Catalunya de Caldetes
URL:https://caldetes.cat/document.php?id=1949
END:VEVENT
END:VCALENDAR