BEGIN:VCALENDAR
VERSION:2.0
PRODID:-//Plone.org//NONSGML plone.app.event//EN
X-WR-TIMEZONE:Europe/Madrid
BEGIN:VEVENT
SUMMARY:Espai de Salut amb Reiki
DTSTART;TZID=Europe/Madrid;VALUE=DATE-TIME:20130327T100000
DTEND;TZID=Europe/Madrid;VALUE=DATE-TIME:20130327T110000
DTSTAMP;VALUE=DATE-TIME:20260423T120359Z
UID:81f24c2a9c8028a44c5973f45c0a06c9
CREATED;VALUE=DATE-TIME:20130327T000000Z
LOCATION:Sala Cultural (i altres llocs a consultar)
ORGANIZER:Àrea de Serveis Socials (Ajuntament de Caldes d'Estrac)
COMMENT:Preu: Activitat gratuïta i oberta a tothom
DESCRIPTION:A càrrec de Voluntaris de l'Associació de Terapeutes Reiki de  Catalunya de Caldetes
URL:https://caldetes.cat/document.php?id=1953
END:VEVENT
END:VCALENDAR