BEGIN:VCALENDAR
VERSION:2.0
PRODID:-//Plone.org//NONSGML plone.app.event//EN
X-WR-TIMEZONE:Europe/Madrid
BEGIN:VEVENT
SUMMARY:Presentació de les parelles lingüístiques
DTSTART;TZID=Europe/Madrid;VALUE=DATE-TIME:20130207T190000
DTEND;TZID=Europe/Madrid;VALUE=DATE-TIME:20130207T200000
DTSTAMP;VALUE=DATE-TIME:20260422T111953Z
UID:b6236034dac130462d2e9fd24abfdb88
CREATED;VALUE=DATE-TIME:20130207T000000Z
LOCATION:Biblioteca Can Milans
ORGANIZER:Biblioteca Can Milans
URL:https://caldetes.cat/document.php?id=1954
END:VEVENT
END:VCALENDAR