BEGIN:VCALENDAR
VERSION:2.0
PRODID:-//Plone.org//NONSGML plone.app.event//EN
X-WR-TIMEZONE:Europe/Madrid
BEGIN:VEVENT
SUMMARY:ConteClub. Espai de lectura compartida familiar.
DTSTART;TZID=Europe/Madrid;VALUE=DATE-TIME:20130215T180000
DTEND;TZID=Europe/Madrid;VALUE=DATE-TIME:20130215T190000
DTSTAMP;VALUE=DATE-TIME:20260424T054826Z
UID:642d1fb357927d318461a84e47d13235
CREATED;VALUE=DATE-TIME:20130215T000000Z
LOCATION:Biblioteca Can Milans
ORGANIZER:Biblioteca Can Milans
DESCRIPTION:Xerrada informativa i inscripcions.
URL:https://caldetes.cat/document.php?id=1955
END:VEVENT
END:VCALENDAR