BEGIN:VCALENDAR
VERSION:2.0
PRODID:-//Plone.org//NONSGML plone.app.event//EN
X-WR-TIMEZONE:Europe/Madrid
BEGIN:VEVENT
SUMMARY:Trobada del ConteClub
DTSTART;TZID=Europe/Madrid;VALUE=DATE-TIME:20130308T180000
DTEND;TZID=Europe/Madrid;VALUE=DATE-TIME:20130308T190000
DTSTAMP;VALUE=DATE-TIME:20260424T200618Z
UID:fb87c5d911694e31563a88363e92410d
CREATED;VALUE=DATE-TIME:20130308T000000Z
LOCATION:Biblioteca Can Milans
ORGANIZER:Biblioteca Can Milans
URL:https://caldetes.cat/document.php?id=1956
END:VEVENT
END:VCALENDAR