BEGIN:VCALENDAR
VERSION:2.0
PRODID:-//Plone.org//NONSGML plone.app.event//EN
X-WR-TIMEZONE:Europe/Madrid
BEGIN:VEVENT
SUMMARY:Taller de moviment i relaxació
DTSTART;TZID=Europe/Madrid;VALUE=DATE-TIME:20130128T113000
DTEND;TZID=Europe/Madrid;VALUE=DATE-TIME:20130128T123000
DTSTAMP;VALUE=DATE-TIME:20260423T033902Z
UID:4c8c0e2e45d27dd67e6b3f4e4cbf4b34
CREATED;VALUE=DATE-TIME:20130128T000000Z
LOCATION:Casal dels Avis
ORGANIZER:Serveis Socials (Ajuntament de Caldes d'Estrac)
DESCRIPTION:A càrrec de Glòria Roca
URL:https://caldetes.cat/document.php?id=1989
END:VEVENT
END:VCALENDAR