BEGIN:VCALENDAR
VERSION:2.0
PRODID:-//Plone.org//NONSGML plone.app.event//EN
X-WR-TIMEZONE:Europe/Madrid
BEGIN:VEVENT
SUMMARY:Taller de moviment i relaxació
DTSTART;TZID=Europe/Madrid;VALUE=DATE-TIME:20130204T113000
DTEND;TZID=Europe/Madrid;VALUE=DATE-TIME:20130204T123000
DTSTAMP;VALUE=DATE-TIME:20260424T113819Z
UID:c3ee47eded90871ae8e9ef6b36c90571
CREATED;VALUE=DATE-TIME:20130204T000000Z
LOCATION:Casal dels Avis
ORGANIZER:Serveis Socials (Ajuntament de Caldes d'Estrac)
DESCRIPTION:A càrrec de Glòria Roca
URL:https://caldetes.cat/document.php?id=1990
END:VEVENT
END:VCALENDAR