BEGIN:VCALENDAR
VERSION:2.0
PRODID:-//Plone.org//NONSGML plone.app.event//EN
X-WR-TIMEZONE:Europe/Madrid
BEGIN:VEVENT
SUMMARY:Taller de moviment i relaxació
DTSTART;TZID=Europe/Madrid;VALUE=DATE-TIME:20130211T113000
DTEND;TZID=Europe/Madrid;VALUE=DATE-TIME:20130211T123000
DTSTAMP;VALUE=DATE-TIME:20260424T043058Z
UID:5b884da491ab5b701bcc2dc05d673a16
CREATED;VALUE=DATE-TIME:20130211T000000Z
LOCATION:Casal dels Avis
ORGANIZER:Serveis Socials (Ajuntament de Caldes d'Estrac)
DESCRIPTION:A càrrec de Glòria Roca
URL:https://caldetes.cat/document.php?id=1991
END:VEVENT
END:VCALENDAR