BEGIN:VCALENDAR
VERSION:2.0
PRODID:-//Plone.org//NONSGML plone.app.event//EN
X-WR-TIMEZONE:Europe/Madrid
BEGIN:VEVENT
SUMMARY:Taller de moviment i relaxació
DTSTART;TZID=Europe/Madrid;VALUE=DATE-TIME:20130311T113000
DTEND;TZID=Europe/Madrid;VALUE=DATE-TIME:20130311T123000
DTSTAMP;VALUE=DATE-TIME:20260422T080654Z
UID:ef42b80c2fb530744794f7510702b9f7
CREATED;VALUE=DATE-TIME:20130311T000000Z
LOCATION:Casal dels Avis
ORGANIZER:Serveis Socials (Ajuntament de Caldes d'Estrac)
DESCRIPTION:A càrrec de Glòria Roca
URL:https://caldetes.cat/document.php?id=1995
END:VEVENT
END:VCALENDAR