BEGIN:VCALENDAR
VERSION:2.0
PRODID:-//Plone.org//NONSGML plone.app.event//EN
X-WR-TIMEZONE:Europe/Madrid
BEGIN:VEVENT
SUMMARY:Taller de moviment i relaxació
DTSTART;TZID=Europe/Madrid;VALUE=DATE-TIME:20130318T113000
DTEND;TZID=Europe/Madrid;VALUE=DATE-TIME:20130318T123000
DTSTAMP;VALUE=DATE-TIME:20260423T074045Z
UID:dee6ea79908add5a890bb3c38557b6ea
CREATED;VALUE=DATE-TIME:20130318T000000Z
LOCATION:Casal dels Avis
ORGANIZER:Serveis Socials (Ajuntament de Caldes d'Estrac)
DESCRIPTION:A càrrec de Glòria Roca
URL:https://caldetes.cat/document.php?id=1996
END:VEVENT
END:VCALENDAR