BEGIN:VCALENDAR
VERSION:2.0
PRODID:-//Plone.org//NONSGML plone.app.event//EN
X-WR-TIMEZONE:Europe/Madrid
BEGIN:VEVENT
SUMMARY:Taller de Carnestoltes
DTSTART;TZID=Europe/Madrid;VALUE=DATE-TIME:20130123T170000
DTEND;TZID=Europe/Madrid;VALUE=DATE-TIME:20130123T180000
DTSTAMP;VALUE=DATE-TIME:20260422T122815Z
UID:d91caa3aa3103241b3f56a9cd2b9dd30
CREATED;VALUE=DATE-TIME:20130123T000000Z
LOCATION:La Fabriqueta
ORGANIZER:Serveis Socials (Ajuntament de Caldes d'Estrac)
COMMENT:Durada: Dues hores
DESCRIPTION:Obert a tothom
URL:https://caldetes.cat/document.php?id=1998
END:VEVENT
END:VCALENDAR