BEGIN:VCALENDAR
VERSION:2.0
PRODID:-//Plone.org//NONSGML plone.app.event//EN
X-WR-TIMEZONE:Europe/Madrid
BEGIN:VEVENT
SUMMARY:Sortim a passejar
DTSTART;TZID=Europe/Madrid;VALUE=DATE-TIME:20130320T170000
DTEND;TZID=Europe/Madrid;VALUE=DATE-TIME:20130320T180000
DTSTAMP;VALUE=DATE-TIME:20260425T024630Z
UID:75b9ce89e2a07bf14ee35a6ad879b3ec
CREATED;VALUE=DATE-TIME:20130320T000000Z
LOCATION:La Fabriqueta
ORGANIZER:Serveis Socials (Ajuntament de Caldes d'Estrac)
COMMENT:Durada: Dues hores
URL:https://caldetes.cat/document.php?id=1999
END:VEVENT
END:VCALENDAR