BEGIN:VCALENDAR
VERSION:2.0
PRODID:-//Plone.org//NONSGML plone.app.event//EN
X-WR-TIMEZONE:Europe/Madrid
BEGIN:VEVENT
SUMMARY:Taller de construcció del Rei Carnestoltes
DTSTART;TZID=Europe/Madrid;VALUE=DATE-TIME:20130204T170000
DTEND;TZID=Europe/Madrid;VALUE=DATE-TIME:20130204T180000
DTSTAMP;VALUE=DATE-TIME:20260421T201906Z
UID:2f26d474f1b61d5f9ec73d016aa9c913
CREATED;VALUE=DATE-TIME:20130204T000000Z
LOCATION:Espai Jove
ORGANIZER:Espai Jove
COMMENT:Durada: Fins el 8 de febrer
URL:https://caldetes.cat/document.php?id=2006
END:VEVENT
END:VCALENDAR