BEGIN:VCALENDAR
VERSION:2.0
PRODID:-//Plone.org//NONSGML plone.app.event//EN
X-WR-TIMEZONE:Europe/Madrid
BEGIN:VEVENT
SUMMARY:Rua de Carnaval de l'Escola Bressol Municipal
DTSTART;TZID=Europe/Madrid;VALUE=DATE-TIME:20130208T150000
DTEND;TZID=Europe/Madrid;VALUE=DATE-TIME:20130208T160000
DTSTAMP;VALUE=DATE-TIME:20260425T062304Z
UID:8cbcb878c04686ceb766987cfe6def87
CREATED;VALUE=DATE-TIME:20130208T000000Z
DESCRIPTION:En finalitzar la rua, s'oferirà un berenar a la Sala Cultural
URL:https://caldetes.cat/document.php?id=2009
END:VEVENT
END:VCALENDAR