BEGIN:VCALENDAR
VERSION:2.0
PRODID:-//Plone.org//NONSGML plone.app.event//EN
X-WR-TIMEZONE:Europe/Madrid
BEGIN:VEVENT
SUMMARY:Escola de Sardanes
DTSTART;TZID=Europe/Madrid;VALUE=DATE-TIME:20130310T110000
DTEND;TZID=Europe/Madrid;VALUE=DATE-TIME:20130310T120000
DTSTAMP;VALUE=DATE-TIME:20260426T020740Z
UID:d2fa9dd389d269cd4cfc896884be62bf
CREATED;VALUE=DATE-TIME:20130310T000000Z
LOCATION:Esplanada Can Muntanyà
ORGANIZER:Agrupació de Pensionistes i Tercera Edat
URL:https://caldetes.cat/document.php?id=2026
END:VEVENT
END:VCALENDAR