BEGIN:VCALENDAR
VERSION:2.0
PRODID:-//Plone.org//NONSGML plone.app.event//EN
X-WR-TIMEZONE:Europe/Madrid
BEGIN:VEVENT
SUMMARY:Escola de Sardanes
DTSTART;TZID=Europe/Madrid;VALUE=DATE-TIME:20130317T110000
DTEND;TZID=Europe/Madrid;VALUE=DATE-TIME:20130317T120000
DTSTAMP;VALUE=DATE-TIME:20260421T185827Z
UID:c1078ba80663b951366c601952537a1a
CREATED;VALUE=DATE-TIME:20130317T000000Z
LOCATION:Esplanada Can Muntanyà
ORGANIZER:Agrupació de Pensionistes i Tercera Edat
URL:https://caldetes.cat/document.php?id=2027
END:VEVENT
END:VCALENDAR