BEGIN:VCALENDAR
VERSION:2.0
PRODID:-//Plone.org//NONSGML plone.app.event//EN
X-WR-TIMEZONE:Europe/Madrid
BEGIN:VEVENT
SUMMARY:Escola de Sardanes
DTSTART;TZID=Europe/Madrid;VALUE=DATE-TIME:20130324T110000
DTEND;TZID=Europe/Madrid;VALUE=DATE-TIME:20130324T120000
DTSTAMP;VALUE=DATE-TIME:20260422T140141Z
UID:5dfdf604ebcb7dd2c06aa04ff52133dc
CREATED;VALUE=DATE-TIME:20130324T000000Z
LOCATION:Esplanada Can Muntanyà
ORGANIZER:Agrupació de Pensionistes i Tercera Edat
URL:https://caldetes.cat/document.php?id=2028
END:VEVENT
END:VCALENDAR