BEGIN:VCALENDAR
VERSION:2.0
PRODID:-//Plone.org//NONSGML plone.app.event//EN
X-WR-TIMEZONE:Europe/Madrid
BEGIN:VEVENT
SUMMARY:Ball Popular
DTSTART;TZID=Europe/Madrid;VALUE=DATE-TIME:20130310T180000
DTEND;TZID=Europe/Madrid;VALUE=DATE-TIME:20130310T190000
DTSTAMP;VALUE=DATE-TIME:20260424T123816Z
UID:1d748c2435744aee5ffbe24e81102626
CREATED;VALUE=DATE-TIME:20130310T000000Z
LOCATION:Sala Cultural
ORGANIZER:Agrupació de Pensionistes i Tercera Edat
URL:https://caldetes.cat/document.php?id=2030
END:VEVENT
END:VCALENDAR