BEGIN:VCALENDAR
VERSION:2.0
PRODID:-//Plone.org//NONSGML plone.app.event//EN
X-WR-TIMEZONE:Europe/Madrid
BEGIN:VEVENT
SUMMARY:Ball Popular
DTSTART;TZID=Europe/Madrid;VALUE=DATE-TIME:20130317T180000
DTEND;TZID=Europe/Madrid;VALUE=DATE-TIME:20130317T190000
DTSTAMP;VALUE=DATE-TIME:20260421T225549Z
UID:27d06a531d2426cc3424793ae6908e51
CREATED;VALUE=DATE-TIME:20130317T000000Z
LOCATION:Sala Cultural
ORGANIZER:Agrupació de Pensionistes i Tercera Edat
URL:https://caldetes.cat/document.php?id=2031
END:VEVENT
END:VCALENDAR