BEGIN:VCALENDAR
VERSION:2.0
PRODID:-//Plone.org//NONSGML plone.app.event//EN
X-WR-TIMEZONE:Europe/Madrid
BEGIN:VEVENT
SUMMARY:"Caldes al dia". Sessió pública informativa
DTSTART;TZID=Europe/Madrid;VALUE=DATE-TIME:20130215T190000
DTEND;TZID=Europe/Madrid;VALUE=DATE-TIME:20130215T200000
DTSTAMP;VALUE=DATE-TIME:20260422T011243Z
UID:a2b64931aa2fd32d907a71961b8c2c26
CREATED;VALUE=DATE-TIME:20130215T000000Z
CATEGORIES:Conferència
LOCATION:La Fabriqueta
ORGANIZER:Ajuntament de Caldes d'Estrac
COMMENT:Preu: gratuït i obert a tothom
DESCRIPTION:A càrrec de l'alcalde, Joaquim Arnó
URL:https://caldetes.cat/document.php?id=2036
END:VEVENT
END:VCALENDAR