BEGIN:VCALENDAR
VERSION:2.0
PRODID:-//Plone.org//NONSGML plone.app.event//EN
X-WR-TIMEZONE:Europe/Madrid
BEGIN:VEVENT
SUMMARY:Per Sant Jordi, la Biblioteca al carrer
DTSTART;TZID=Europe/Madrid;VALUE=DATE-TIME:20130423T100000
DTEND;TZID=Europe/Madrid;VALUE=DATE-TIME:20130423T110000
DTSTAMP;VALUE=DATE-TIME:20260425T224052Z
UID:c6ca7f96c934dba9ea3984a94b422c74
CREATED;VALUE=DATE-TIME:20130423T000000Z
CATEGORIES:Literatura
LOCATION:Esplanada Can Muntanyà
ORGANIZER:Biblioteca Can Milans
DESCRIPTION:Paradeta de llibres i hora del conte a Can Muntanyà
URL:https://caldetes.cat/document.php?id=2045
END:VEVENT
END:VCALENDAR