BEGIN:VCALENDAR
VERSION:2.0
PRODID:-//Plone.org//NONSGML plone.app.event//EN
X-WR-TIMEZONE:Europe/Madrid
BEGIN:VEVENT
SUMMARY:Xerrada-col·loqui amb Martí Gironell
DTSTART;TZID=Europe/Madrid;VALUE=DATE-TIME:20130608T190000
DTEND;TZID=Europe/Madrid;VALUE=DATE-TIME:20130608T200000
DTSTAMP;VALUE=DATE-TIME:20260425T182924Z
UID:07cf57b75897941541f08b614925fad9
CREATED;VALUE=DATE-TIME:20130608T000000Z
CATEGORIES:Literatura
LOCATION:Biblioteca Can Milans
ORGANIZER:Biblioteca Can Milans i Institució de les Lletres Catalanes
DESCRIPTION:L'escriptor i periodista ens parlarà del seu llibre "L'arqueòleg"
URL:https://caldetes.cat/document.php?id=2048
END:VEVENT
END:VCALENDAR