BEGIN:VCALENDAR
VERSION:2.0
PRODID:-//Plone.org//NONSGML plone.app.event//EN
X-WR-TIMEZONE:Europe/Madrid
BEGIN:VEVENT
SUMMARY:Concentració Pre-seleccions de Patinatge Artístic
DTSTART;TZID=Europe/Madrid;VALUE=DATE-TIME:20130426T235900
DTEND;TZID=Europe/Madrid;VALUE=DATE-TIME:20130427T005900
DTSTAMP;VALUE=DATE-TIME:20260422T164119Z
UID:818bbebcbea8dad56441b66c98ff54ed
CREATED;VALUE=DATE-TIME:20130426T000000Z
CATEGORIES:Esports
LOCATION:CAR -Sant Cugat
ORGANIZER:Club de Patinatge Artístic Caldes d'Estrac
COMMENT:Durada: 28 d'abril de 2013
DESCRIPTION:Quarta Convocatòria Pre-seleccions 2013
URL:https://caldetes.cat/document.php?id=2050
END:VEVENT
END:VCALENDAR