BEGIN:VCALENDAR
VERSION:2.0
PRODID:-//Plone.org//NONSGML plone.app.event//EN
X-WR-TIMEZONE:Europe/Madrid
BEGIN:VEVENT
SUMMARY:1ª Jornada de Tecnificació de l'Alt Rendiment Català 2013
DTSTART;TZID=Europe/Madrid;VALUE=DATE-TIME:20130216T235900
DTEND;TZID=Europe/Madrid;VALUE=DATE-TIME:20130217T005900
DTSTAMP;VALUE=DATE-TIME:20260423T192515Z
UID:a3b59658e175a53235c7bc00e1031815
CREATED;VALUE=DATE-TIME:20130216T000000Z
CATEGORIES:Esports
LOCATION:CAR -Sant Cugat
ORGANIZER:Club de Patinatge Artístic Caldes d'Estrac
COMMENT:Durada: 17 de febrer de 2013
DESCRIPTION:Tecnificació de Patinatge Artístic
URL:https://caldetes.cat/document.php?id=2051
END:VEVENT
END:VCALENDAR