BEGIN:VCALENDAR
VERSION:2.0
PRODID:-//Plone.org//NONSGML plone.app.event//EN
X-WR-TIMEZONE:Europe/Madrid
BEGIN:VEVENT
SUMMARY:Melé
DTSTART;TZID=Europe/Madrid;VALUE=DATE-TIME:20130309T163000
DTEND;TZID=Europe/Madrid;VALUE=DATE-TIME:20130309T173000
DTSTAMP;VALUE=DATE-TIME:20260424T154439Z
UID:bc5477632ca17febdf60a5ab3960b2b6
CREATED;VALUE=DATE-TIME:20130309T000000Z
LOCATION:Pistes Municipals de Petanca
ORGANIZER:Club de Petanca de Caldes d'Estrac
COMMENT:Preu: 4 &euro;
DESCRIPTION:Premis als 2 primers classificats de cada grup
URL:https://caldetes.cat/document.php?id=2056
END:VEVENT
END:VCALENDAR