BEGIN:VCALENDAR
VERSION:2.0
PRODID:-//Plone.org//NONSGML plone.app.event//EN
X-WR-TIMEZONE:Europe/Madrid
BEGIN:VEVENT
SUMMARY:Melé
DTSTART;TZID=Europe/Madrid;VALUE=DATE-TIME:20130316T163000
DTEND;TZID=Europe/Madrid;VALUE=DATE-TIME:20130316T173000
DTSTAMP;VALUE=DATE-TIME:20260421T161317Z
UID:3b89d0363a168fc5cc79eb4b1851672b
CREATED;VALUE=DATE-TIME:20130316T000000Z
LOCATION:Pistes Municipals de Petanca
ORGANIZER:Club de Petanca de Caldes d'Estrac
COMMENT:Preu: 4 &euro;
DESCRIPTION:Premis als 2 primers classificats de cada grup
URL:https://caldetes.cat/document.php?id=2057
END:VEVENT
END:VCALENDAR