BEGIN:VCALENDAR
VERSION:2.0
PRODID:-//Plone.org//NONSGML plone.app.event//EN
X-WR-TIMEZONE:Europe/Madrid
BEGIN:VEVENT
SUMMARY:Melé
DTSTART;TZID=Europe/Madrid;VALUE=DATE-TIME:20130413T170000
DTEND;TZID=Europe/Madrid;VALUE=DATE-TIME:20130413T180000
DTSTAMP;VALUE=DATE-TIME:20260422T002102Z
UID:7d7e05cedeb3ab7cdcb90b24fb849833
CREATED;VALUE=DATE-TIME:20130413T000000Z
LOCATION:Pistes Municipals de Petanca
ORGANIZER:Club de Petanca de Caldes d'Estrac
COMMENT:Preu: 4 &euro;
DESCRIPTION:Premis als 2 primers classificats de cada grup
URL:https://caldetes.cat/document.php?id=2062
END:VEVENT
END:VCALENDAR