BEGIN:VCALENDAR
VERSION:2.0
PRODID:-//Plone.org//NONSGML plone.app.event//EN
X-WR-TIMEZONE:Europe/Madrid
BEGIN:VEVENT
SUMMARY:Melé
DTSTART;TZID=Europe/Madrid;VALUE=DATE-TIME:20130511T170000
DTEND;TZID=Europe/Madrid;VALUE=DATE-TIME:20130511T180000
DTSTAMP;VALUE=DATE-TIME:20260423T120015Z
UID:e8c7e9b6c7741f3532da58a24d0ae806
CREATED;VALUE=DATE-TIME:20130511T000000Z
LOCATION:Pistes Municipals de Petanca
ORGANIZER:Club de Petanca de Caldes d'Estrac
COMMENT:Preu: 4 &euro;
DESCRIPTION:Premis als 2 primers classificats de cada grup
URL:https://caldetes.cat/document.php?id=2065
END:VEVENT
END:VCALENDAR