BEGIN:VCALENDAR
VERSION:2.0
PRODID:-//Plone.org//NONSGML plone.app.event//EN
X-WR-TIMEZONE:Europe/Madrid
BEGIN:VEVENT
SUMMARY:Melé
DTSTART;TZID=Europe/Madrid;VALUE=DATE-TIME:20130518T170000
DTEND;TZID=Europe/Madrid;VALUE=DATE-TIME:20130518T180000
DTSTAMP;VALUE=DATE-TIME:20260424T001142Z
UID:e93c6854f57411bc0d7e968136c2bc2c
CREATED;VALUE=DATE-TIME:20130518T000000Z
LOCATION:Pistes Municipals de Petanca
ORGANIZER:Club de Petanca de Caldes d'Estrac
COMMENT:Preu: 4 &euro;
DESCRIPTION:Premis als 2 primers classificats de cada grup
URL:https://caldetes.cat/document.php?id=2066
END:VEVENT
END:VCALENDAR