BEGIN:VCALENDAR
VERSION:2.0
PRODID:-//Plone.org//NONSGML plone.app.event//EN
X-WR-TIMEZONE:Europe/Madrid
BEGIN:VEVENT
SUMMARY:Melé
DTSTART;TZID=Europe/Madrid;VALUE=DATE-TIME:20130525T170000
DTEND;TZID=Europe/Madrid;VALUE=DATE-TIME:20130525T180000
DTSTAMP;VALUE=DATE-TIME:20260422T072139Z
UID:80fee4e2344ebb35e1970eaba5b2fe86
CREATED;VALUE=DATE-TIME:20130525T000000Z
LOCATION:Pistes Municipals de Petanca
ORGANIZER:Club de Petanca de Caldes d'Estrac
COMMENT:Preu: 4 &euro;
DESCRIPTION:Premis als 2 primers classificats de cada grup
URL:https://caldetes.cat/document.php?id=2067
END:VEVENT
END:VCALENDAR