BEGIN:VCALENDAR
VERSION:2.0
PRODID:-//Plone.org//NONSGML plone.app.event//EN
X-WR-TIMEZONE:Europe/Madrid
BEGIN:VEVENT
SUMMARY:Melé
DTSTART;TZID=Europe/Madrid;VALUE=DATE-TIME:20130601T180000
DTEND;TZID=Europe/Madrid;VALUE=DATE-TIME:20130601T190000
DTSTAMP;VALUE=DATE-TIME:20260424T042605Z
UID:eba45555382dad51811a59441654581e
CREATED;VALUE=DATE-TIME:20130601T000000Z
LOCATION:Pistes Municipals de Petanca
ORGANIZER:Club de Petanca de Caldes d'Estrac
COMMENT:Preu: 4 &euro;
DESCRIPTION:Premis als 2 primers classificats de cada grup
URL:https://caldetes.cat/document.php?id=2068
END:VEVENT
END:VCALENDAR