BEGIN:VCALENDAR
VERSION:2.0
PRODID:-//Plone.org//NONSGML plone.app.event//EN
X-WR-TIMEZONE:Europe/Madrid
BEGIN:VEVENT
SUMMARY:Diàleg amb Pere Portabella sobre el film Festival Price (1970)
DTSTART;TZID=Europe/Madrid;VALUE=DATE-TIME:20130228T193000
DTEND;TZID=Europe/Madrid;VALUE=DATE-TIME:20130228T203000
DTSTAMP;VALUE=DATE-TIME:20260422T181621Z
UID:85c1bbc9325efff428d73f35f35cc8cd
CREATED;VALUE=DATE-TIME:20130228T000000Z
CATEGORIES:Conferència
LOCATION:Fundació Palau
ORGANIZER:Fundació Palau
COMMENT:Preu: Gratuït
DESCRIPTION:A la Fundació Palau
URL:https://caldetes.cat/document.php?id=2077
END:VEVENT
END:VCALENDAR