BEGIN:VCALENDAR
VERSION:2.0
PRODID:-//Plone.org//NONSGML plone.app.event//EN
X-WR-TIMEZONE:Europe/Madrid
BEGIN:VEVENT
SUMMARY:Les Joguines s'animen
DTSTART;TZID=Europe/Madrid;VALUE=DATE-TIME:20130303T113000
DTEND;TZID=Europe/Madrid;VALUE=DATE-TIME:20130303T123000
DTSTAMP;VALUE=DATE-TIME:20260423T204952Z
UID:59861f607a8cc24c75a360295d3c1a28
CREATED;VALUE=DATE-TIME:20130303T000000Z
CATEGORIES:Infantils
LOCATION:Fundació Palau
ORGANIZER:Fundació Palau
COMMENT:Preu: 3&euro; per nen
Durada: 2 hores
DESCRIPTION:Taller familiar a càrrec de Toon a Ville
URL:https://caldetes.cat/document.php?id=2078
END:VEVENT
END:VCALENDAR