BEGIN:VCALENDAR
VERSION:2.0
PRODID:-//Plone.org//NONSGML plone.app.event//EN
X-WR-TIMEZONE:Europe/Madrid
BEGIN:VEVENT
SUMMARY:Presentació de la poesia de Maria-Mercè Marçal
DTSTART;TZID=Europe/Madrid;VALUE=DATE-TIME:20130308T193000
DTEND;TZID=Europe/Madrid;VALUE=DATE-TIME:20130308T203000
DTSTAMP;VALUE=DATE-TIME:20260423T162549Z
UID:df332e9526a092316b42a86c351186d3
CREATED;VALUE=DATE-TIME:20130308T000000Z
CATEGORIES:Literatura,Conferència
LOCATION:Fundació Palau
ORGANIZER:Fundació Palau
COMMENT:Preu: Gratüit
Durada: 1 hora
URL:https://caldetes.cat/document.php?id=2079
END:VEVENT
END:VCALENDAR