BEGIN:VCALENDAR
VERSION:2.0
PRODID:-//Plone.org//NONSGML plone.app.event//EN
X-WR-TIMEZONE:Europe/Madrid
BEGIN:VEVENT
SUMMARY:Els poetes Ramon Balasch, Narcís Comadira i Jaume Creus conversen
DTSTART;TZID=Europe/Madrid;VALUE=DATE-TIME:20130321T193000
DTEND;TZID=Europe/Madrid;VALUE=DATE-TIME:20130321T203000
DTSTAMP;VALUE=DATE-TIME:20260422T190232Z
UID:c3cf281b88e0fbdaf62cb75462dfe0a8
CREATED;VALUE=DATE-TIME:20130321T000000Z
CATEGORIES:Literatura,Conferència
LOCATION:Fundació Palau
ORGANIZER:Fundació Palau
COMMENT:Preu: Gratuït
Durada: 1 hora
URL:https://caldetes.cat/document.php?id=2080
END:VEVENT
END:VCALENDAR