BEGIN:VCALENDAR
VERSION:2.0
PRODID:-//Plone.org//NONSGML plone.app.event//EN
X-WR-TIMEZONE:Europe/Madrid
BEGIN:VEVENT
SUMMARY:Poesia: l'eterna revolta.
DTSTART;TZID=Europe/Madrid;VALUE=DATE-TIME:20130330T173000
DTEND;TZID=Europe/Madrid;VALUE=DATE-TIME:20130330T183000
DTSTAMP;VALUE=DATE-TIME:20260421T212910Z
UID:56534f3f4d7697cea59fd11f813f56eb
CREATED;VALUE=DATE-TIME:20130330T000000Z
CATEGORIES:Literatura,Conferència
LOCATION:Fundació Palau
ORGANIZER:Fundació Palau
COMMENT:Preu: 5&euro; per persona
Durada: 1h30 minuts
DESCRIPTION:Visita comentada+recital poètic.
URL:https://caldetes.cat/document.php?id=2081
END:VEVENT
END:VCALENDAR