BEGIN:VCALENDAR
VERSION:2.0
PRODID:-//Plone.org//NONSGML plone.app.event//EN
X-WR-TIMEZONE:Europe/Madrid
BEGIN:VEVENT
SUMMARY:Exposició i mostra dels punts de llibre presentats al concurs
DTSTART;TZID=Europe/Madrid;VALUE=DATE-TIME:20130221T160000
DTEND;TZID=Europe/Madrid;VALUE=DATE-TIME:20130221T170000
DTSTAMP;VALUE=DATE-TIME:20260423T090225Z
UID:c3bdcc88d754da80e3a8b7fd799c414c
CREATED;VALUE=DATE-TIME:20130221T000000Z
CATEGORIES:Exposició,Mostra
LOCATION:Biblioteca Can Milans
ORGANIZER:Biblioteca Can Milans
DESCRIPTION:Del 21 de febrer al 31 de març. A la biblioteca Can Milans
URL:https://caldetes.cat/document.php?id=2086
END:VEVENT
END:VCALENDAR