BEGIN:VCALENDAR
VERSION:2.0
PRODID:-//Plone.org//NONSGML plone.app.event//EN
X-WR-TIMEZONE:Europe/Madrid
BEGIN:VEVENT
SUMMARY:Criterium Patinatge Artístic
DTSTART;TZID=Europe/Madrid;VALUE=DATE-TIME:20130309T235900
DTEND;TZID=Europe/Madrid;VALUE=DATE-TIME:20130310T005900
DTSTAMP;VALUE=DATE-TIME:20260425T002954Z
UID:e2d2dd0eee73c2101b9b65a9c61d9d8b
CREATED;VALUE=DATE-TIME:20130309T000000Z
CATEGORIES:Esports
LOCATION:Pavelló municipal Jaume Parera i León, Mataró
ORGANIZER:Club de Patinatge Artístic Caldes d'Estrac
COMMENT:Durada: 10 de març de 2013
DESCRIPTION:Trofeu de Patinatge Artístic
URL:https://caldetes.cat/document.php?id=2099
END:VEVENT
END:VCALENDAR