BEGIN:VCALENDAR
VERSION:2.0
PRODID:-//Plone.org//NONSGML plone.app.event//EN
X-WR-TIMEZONE:Europe/Madrid
BEGIN:VEVENT
SUMMARY:Taller
DTSTART;TZID=Europe/Madrid;VALUE=DATE-TIME:20130506T113000
DTEND;TZID=Europe/Madrid;VALUE=DATE-TIME:20130506T123000
DTSTAMP;VALUE=DATE-TIME:20260421T213731Z
UID:984a8a3b1acac6a475b11076962317d4
CREATED;VALUE=DATE-TIME:20130506T000000Z
LOCATION:Casal dels Avis
ORGANIZER:Serveis socials
COMMENT:Preu: gratuit
DESCRIPTION:Moviment i relaxació
URL:https://caldetes.cat/document.php?id=2110
END:VEVENT
END:VCALENDAR