BEGIN:VCALENDAR
VERSION:2.0
PRODID:-//Plone.org//NONSGML plone.app.event//EN
X-WR-TIMEZONE:Europe/Madrid
BEGIN:VEVENT
SUMMARY:Taller
DTSTART;TZID=Europe/Madrid;VALUE=DATE-TIME:20130513T113000
DTEND;TZID=Europe/Madrid;VALUE=DATE-TIME:20130513T123000
DTSTAMP;VALUE=DATE-TIME:20260422T175544Z
UID:40fb9d6b4278cb73e8ec9dd728f013a3
CREATED;VALUE=DATE-TIME:20130513T000000Z
LOCATION:Casal dels Avis
ORGANIZER:Serveis socials
COMMENT:Preu: gratuit
DESCRIPTION:Moviment i relaxació
URL:https://caldetes.cat/document.php?id=2111
END:VEVENT
END:VCALENDAR