BEGIN:VCALENDAR
VERSION:2.0
PRODID:-//Plone.org//NONSGML plone.app.event//EN
X-WR-TIMEZONE:Europe/Madrid
BEGIN:VEVENT
SUMMARY:Taller
DTSTART;TZID=Europe/Madrid;VALUE=DATE-TIME:20130520T113000
DTEND;TZID=Europe/Madrid;VALUE=DATE-TIME:20130520T123000
DTSTAMP;VALUE=DATE-TIME:20260419T221840Z
UID:29b3dccff714ffc377b3e26a4db2f506
CREATED;VALUE=DATE-TIME:20130520T000000Z
LOCATION:Casal dels Avis
ORGANIZER:Serveis socials
COMMENT:Preu: gratuit
DESCRIPTION:Moviment i relaxació
URL:https://caldetes.cat/document.php?id=2112
END:VEVENT
END:VCALENDAR