BEGIN:VCALENDAR
VERSION:2.0
PRODID:-//Plone.org//NONSGML plone.app.event//EN
X-WR-TIMEZONE:Europe/Madrid
BEGIN:VEVENT
SUMMARY:Taller
DTSTART;TZID=Europe/Madrid;VALUE=DATE-TIME:20130527T113000
DTEND;TZID=Europe/Madrid;VALUE=DATE-TIME:20130527T123000
DTSTAMP;VALUE=DATE-TIME:20260424T215246Z
UID:09b60c29431414964b1f2784539552a2
CREATED;VALUE=DATE-TIME:20130527T000000Z
LOCATION:Casal dels Avis
ORGANIZER:Serveis socials
COMMENT:Preu: gratuit
DESCRIPTION:Moviment i relaxació
URL:https://caldetes.cat/document.php?id=2113
END:VEVENT
END:VCALENDAR