BEGIN:VCALENDAR
VERSION:2.0
PRODID:-//Plone.org//NONSGML plone.app.event//EN
X-WR-TIMEZONE:Europe/Madrid
BEGIN:VEVENT
SUMMARY:I tu per què no?
DTSTART;TZID=Europe/Madrid;VALUE=DATE-TIME:20130416T100000
DTEND;TZID=Europe/Madrid;VALUE=DATE-TIME:20130416T110000
DTSTAMP;VALUE=DATE-TIME:20260423T162306Z
UID:9a58ff14ba4eaa31f060061adeb27b01
CREATED;VALUE=DATE-TIME:20130416T000000Z
LOCATION:Casal dels Avis
ORGANIZER:Serveis Socials
COMMENT:Preu: gratuit
DESCRIPTION:Formació de voluntaris per a ensenyar informàtica a Gent Gran
URL:https://caldetes.cat/document.php?id=2114
END:VEVENT
END:VCALENDAR