BEGIN:VCALENDAR
VERSION:2.0
PRODID:-//Plone.org//NONSGML plone.app.event//EN
X-WR-TIMEZONE:Europe/Madrid
BEGIN:VEVENT
SUMMARY:I tu per què no?
DTSTART;TZID=Europe/Madrid;VALUE=DATE-TIME:20130430T100000
DTEND;TZID=Europe/Madrid;VALUE=DATE-TIME:20130430T110000
DTSTAMP;VALUE=DATE-TIME:20260423T101903Z
UID:b5b27c74f8f64097b7015a31bf0c5aac
CREATED;VALUE=DATE-TIME:20130430T000000Z
LOCATION:Casal dels Avis
ORGANIZER:Serveis Socials
COMMENT:Preu: gratuit
DESCRIPTION:Formació de voluntaris per a ensenyar informàtica a Gent Gran
URL:https://caldetes.cat/document.php?id=2116
END:VEVENT
END:VCALENDAR