BEGIN:VCALENDAR
VERSION:2.0
PRODID:-//Plone.org//NONSGML plone.app.event//EN
X-WR-TIMEZONE:Europe/Madrid
BEGIN:VEVENT
SUMMARY:I tu per què no?
DTSTART;TZID=Europe/Madrid;VALUE=DATE-TIME:20130507T100000
DTEND;TZID=Europe/Madrid;VALUE=DATE-TIME:20130507T110000
DTSTAMP;VALUE=DATE-TIME:20260423T130550Z
UID:aaddc902c3abfc5bc31172d9cb8379ad
CREATED;VALUE=DATE-TIME:20130507T000000Z
LOCATION:Casal dels Avis
ORGANIZER:Serveis Socials
COMMENT:Preu: gratuit
DESCRIPTION:Formació de voluntaris per a ensenyar informàtica a Gent Gran
URL:https://caldetes.cat/document.php?id=2117
END:VEVENT
END:VCALENDAR